BEGIN:VCALENDAR
VERSION:2.0
PRODID:-//Cooks Creek Watershed Association - ECPv6.15.11//NONSGML v1.0//EN
CALSCALE:GREGORIAN
METHOD:PUBLISH
X-WR-CALNAME:Cooks Creek Watershed Association
X-ORIGINAL-URL:https://cookscreekpa.org
X-WR-CALDESC:Events for Cooks Creek Watershed Association
REFRESH-INTERVAL;VALUE=DURATION:PT1H
X-Robots-Tag:noindex
X-PUBLISHED-TTL:PT1H
BEGIN:VTIMEZONE
TZID:America/New_York
BEGIN:DAYLIGHT
TZOFFSETFROM:-0500
TZOFFSETTO:-0400
TZNAME:EDT
DTSTART:20170312T070000
END:DAYLIGHT
BEGIN:STANDARD
TZOFFSETFROM:-0400
TZOFFSETTO:-0500
TZNAME:EST
DTSTART:20171105T060000
END:STANDARD
BEGIN:DAYLIGHT
TZOFFSETFROM:-0500
TZOFFSETTO:-0400
TZNAME:EDT
DTSTART:20180311T070000
END:DAYLIGHT
BEGIN:STANDARD
TZOFFSETFROM:-0400
TZOFFSETTO:-0500
TZNAME:EST
DTSTART:20181104T060000
END:STANDARD
BEGIN:DAYLIGHT
TZOFFSETFROM:-0500
TZOFFSETTO:-0400
TZNAME:EDT
DTSTART:20190310T070000
END:DAYLIGHT
BEGIN:STANDARD
TZOFFSETFROM:-0400
TZOFFSETTO:-0500
TZNAME:EST
DTSTART:20191103T060000
END:STANDARD
BEGIN:DAYLIGHT
TZOFFSETFROM:-0500
TZOFFSETTO:-0400
TZNAME:EDT
DTSTART:20200308T070000
END:DAYLIGHT
BEGIN:STANDARD
TZOFFSETFROM:-0400
TZOFFSETTO:-0500
TZNAME:EST
DTSTART:20201101T060000
END:STANDARD
END:VTIMEZONE
BEGIN:VEVENT
DTSTART;TZID=America/New_York:20191219T193000
DTEND;TZID=America/New_York:20191219T210000
DTSTAMP:20260419T155102
CREATED:20190924T151305Z
LAST-MODIFIED:20190924T151305Z
UID:1057-1576783800-1576789200@cookscreekpa.org
SUMMARY:Board Meeting
DESCRIPTION:
URL:https://cookscreekpa.org/event/board-meeting-4/
LOCATION:Springtown Volunteer Fire Company\, 3010 Route 212 (Main St)\, Springtown\, PA\, 18081\, United States
ORGANIZER;CN="Cooks Creek Watershed Association":MAILTO:info@cookscreekpa.org
END:VEVENT
BEGIN:VEVENT
DTSTART;TZID=America/New_York:20191121T193000
DTEND;TZID=America/New_York:20191121T210000
DTSTAMP:20260419T155102
CREATED:20190924T151223Z
LAST-MODIFIED:20190924T151223Z
UID:1056-1574364600-1574370000@cookscreekpa.org
SUMMARY:Board Meeting
DESCRIPTION:
URL:https://cookscreekpa.org/event/board-meeting-3/
LOCATION:Springtown Volunteer Fire Company\, 3010 Route 212 (Main St)\, Springtown\, PA\, 18081\, United States
ORGANIZER;CN="Cooks Creek Watershed Association":MAILTO:info@cookscreekpa.org
END:VEVENT
BEGIN:VEVENT
DTSTART;TZID=America/New_York:20191109T090000
DTEND;TZID=America/New_York:20191109T120000
DTSTAMP:20260419T155102
CREATED:20190322T181104Z
LAST-MODIFIED:20190924T144120Z
UID:900-1573290000-1573300800@cookscreekpa.org
SUMMARY:Fall Clean-Up
DESCRIPTION:
URL:https://cookscreekpa.org/event/fall-clean-up/
LOCATION:Rte 212 at Old Philadelphia Rd./Gallows Hill Rd.\, Durham\, 18039
END:VEVENT
BEGIN:VEVENT
DTSTART;TZID=America/New_York:20191024T193000
DTEND;TZID=America/New_York:20191024T210000
DTSTAMP:20260419T155102
CREATED:20190924T151133Z
LAST-MODIFIED:20191008T182736Z
UID:1055-1571945400-1571950800@cookscreekpa.org
SUMMARY:Board Meeting
DESCRIPTION:
URL:https://cookscreekpa.org/event/board-meeting-2/
LOCATION:Springtown Volunteer Fire Company\, 3010 Route 212 (Main St)\, Springtown\, PA\, 18081\, United States
ORGANIZER;CN="Cooks Creek Watershed Association":MAILTO:info@cookscreekpa.org
END:VEVENT
BEGIN:VEVENT
DTSTART;TZID=America/New_York:20191012T120000
DTEND;TZID=America/New_York:20191012T150000
DTSTAMP:20260419T155102
CREATED:20190322T180933Z
LAST-MODIFIED:20190322T180934Z
UID:898-1570881600-1570892400@cookscreekpa.org
SUMMARY:Durham Community Day
DESCRIPTION:
URL:https://cookscreekpa.org/event/durham-community-day-3/
LOCATION:Durham Township Green-Durham Mill\, 955 Durham Rd.\, Durham\, PA\, 18039\, United States
END:VEVENT
BEGIN:VEVENT
DTSTART;TZID=America/New_York:20191006T120000
DTEND;TZID=America/New_York:20191006T150000
DTSTAMP:20260419T155102
CREATED:20190322T180648Z
LAST-MODIFIED:20190912T004506Z
UID:897-1570363200-1570374000@cookscreekpa.org
SUMMARY:Walk in Penn's Woods
DESCRIPTION:The Durham Township Environmental Advisory Council invites you to attend its 3rd Annual Walk in Penn’s Woods in partnership with the Cooks Creek Watershed Association and The Durham Historical Society! This year’s guided walk takes place on three contiguous private properties within Durham Township. It’s a downhill walk of approximately 1.5-miles that traverses former roads and paths through old growth forest and a blue heron rookery on beautiful Cooks Creek\, one of only a few streams in Bucks Count designated as an Exceptional Value (EV) stream. Guides will provide information about the forest\, native plants and animals\, stream ecology and the human history of the area. Space is limited and registration is REQUIRED. Contact Durham Township EAC Chair Kathleen Connally at kxc30@psu.edu to register and receive the address/coordinates for parking and meet up. Please leave pets at home.
URL:https://cookscreekpa.org/event/walk-in-penns/
LOCATION:To Be Announced
END:VEVENT
BEGIN:VEVENT
DTSTART;TZID=America/New_York:20191005T170000
DTEND;TZID=America/New_York:20191005T210000
DTSTAMP:20260419T155102
CREATED:20190322T180505Z
LAST-MODIFIED:20190804T172547Z
UID:896-1570294800-1570309200@cookscreekpa.org
SUMMARY:Fall Dinner Keynote: “Lotta Things You Don’t Know About ‘Shrooms”
DESCRIPTION:Cooks Creek Watershed Association is proud to announce that the keynote speaker for its Annual Fall Dinner on October 5\, 2019 will be Dr. Marion (Martie) Kyde. Dr. Kyde possesses a BS in Botany\, an MS in Plant Physiology and a Ph.D. in Mycology all granted by Rutgers University. She and her husband\, Neil are residents of Tinicum Township where they have a home located on The Tulgey Wood\, a State Stewardship Forest and a protected site through an easement granted by the Heritage Conservancy. \nAn active conservationist\, Dr. Kyde has been a member of a number of Open Space and Land Conservation committees. Among her many awards are being recognized by the Delaware River Greenway Partnership; being named Bucks County Watershed Conservationist of the Year; recipient of the Director’s Land Ethics Award from Bowman’s Hill Wildflower Preserve and was named Lady High Admiral of the Delaware River Sojourn. \nWith her Ph.D. in Mycology\, it goes without saying that she has a deep interest in mushrooms and correspondingly in-depth knowledge of them. It is our privilege to have Martie with us to present “Lotta Things You Don’t Know About ‘Shrooms”
URL:https://cookscreekpa.org/event/fall-dinner-2/
LOCATION:Springtown Rod & Gun Club\, 3146 PA-212 (Main Street)\, Springtown\, PA\, 18081\, United States
END:VEVENT
BEGIN:VEVENT
DTSTART;TZID=America/New_York:20190926T193000
DTEND;TZID=America/New_York:20190926T210000
DTSTAMP:20260419T155102
CREATED:20190924T151031Z
LAST-MODIFIED:20190924T151031Z
UID:1054-1569526200-1569531600@cookscreekpa.org
SUMMARY:Board Meeting
DESCRIPTION:
URL:https://cookscreekpa.org/event/board-meeting/
LOCATION:Springtown Volunteer Fire Company\, 3010 Route 212 (Main St)\, Springtown\, PA\, 18081\, United States
ORGANIZER;CN="Cooks Creek Watershed Association":MAILTO:info@cookscreekpa.org
END:VEVENT
BEGIN:VEVENT
DTSTART;TZID=America/New_York:20190727T130000
DTEND;TZID=America/New_York:20190727T160000
DTSTAMP:20260419T155102
CREATED:20190529T122211Z
LAST-MODIFIED:20190529T122211Z
UID:995-1564232400-1564243200@cookscreekpa.org
SUMMARY:Reforestation for Landowners Facing Major Tree Loss
DESCRIPTION:
URL:https://cookscreekpa.org/event/reforestation-for-landowners-facing-major-tree-loss/
LOCATION:Riegelsville Borough Hall\, Church Rd.\, Riegelsville\, PA\, 18077\, United States
ORGANIZER;CN="Cooks Creek Watershed Association":MAILTO:info@cookscreekpa.org
END:VEVENT
BEGIN:VEVENT
DTSTART;TZID=America/New_York:20190615T093000
DTEND;TZID=America/New_York:20190615T120000
DTSTAMP:20260419T155102
CREATED:20190322T175758Z
LAST-MODIFIED:20190322T175758Z
UID:895-1560591000-1560600000@cookscreekpa.org
SUMMARY:Mini Monster Mayhem
DESCRIPTION:
URL:https://cookscreekpa.org/event/mini-monster-mayhem-3/
LOCATION:The Douglas Home\, 3450 Route 212\, Springtown\, PA\, 18081\, United States
END:VEVENT
BEGIN:VEVENT
DTSTART;TZID=America/New_York:20190406T090000
DTEND;TZID=America/New_York:20190406T160000
DTSTAMP:20260419T155102
CREATED:20190322T175443Z
LAST-MODIFIED:20190322T175443Z
UID:893-1554541200-1554566400@cookscreekpa.org
SUMMARY:Spring 2019 Watershed Green-Up Day
DESCRIPTION:
URL:https://cookscreekpa.org/event/spring-2019-watershed-green-up-day/
LOCATION:Springtown Volunteer Fire Company\, 3010 Route 212 (Main St)\, Springtown\, PA\, 18081\, United States
END:VEVENT
BEGIN:VEVENT
DTSTART;TZID=America/New_York:20190322T193000
DTEND;TZID=America/New_York:20190322T210000
DTSTAMP:20260419T155102
CREATED:20190322T175611Z
LAST-MODIFIED:20190322T175611Z
UID:894-1553283000-1553288400@cookscreekpa.org
SUMMARY:Annual Meeting
DESCRIPTION:
URL:https://cookscreekpa.org/event/annual-meeting-2/
LOCATION:Springtown Volunteer Fire Company\, 3010 Route 212 (Main St)\, Springtown\, PA\, 18081\, United States
END:VEVENT
BEGIN:VEVENT
DTSTART;TZID=America/New_York:20181220T193000
DTEND;TZID=America/New_York:20181220T193000
DTSTAMP:20260419T155102
CREATED:20180111T033938Z
LAST-MODIFIED:20180915T124032Z
UID:408-1545334200-1545334200@cookscreekpa.org
SUMMARY:Monthly Cooks Creek Watershed Association Board Meeting
DESCRIPTION:Public welcome.
URL:https://cookscreekpa.org/event/monthly-cooks-creek-watershed-association-board-meeting-12/
LOCATION:Springtown Volunteer Fire Company\, 3010 Route 212 (Main St)\, Springtown\, PA\, 18081\, United States
END:VEVENT
BEGIN:VEVENT
DTSTART;TZID=America/New_York:20181115T193000
DTEND;TZID=America/New_York:20181115T193000
DTSTAMP:20260419T155102
CREATED:20180111T033850Z
LAST-MODIFIED:20180915T124049Z
UID:407-1542310200-1542310200@cookscreekpa.org
SUMMARY:Monthly Cooks Creek Watershed Association Board Meeting
DESCRIPTION:Public welcome.
URL:https://cookscreekpa.org/event/monthly-cooks-creek-watershed-association-board-meeting-11/
LOCATION:Springtown Volunteer Fire Company\, 3010 Route 212 (Main St)\, Springtown\, PA\, 18081\, United States
END:VEVENT
BEGIN:VEVENT
DTSTART;TZID=America/New_York:20181110T090000
DTEND;TZID=America/New_York:20181110T120000
DTSTAMP:20260419T155102
CREATED:20180110T003514Z
LAST-MODIFIED:20180915T124104Z
UID:385-1541840400-1541851200@cookscreekpa.org
SUMMARY:Fall Clean-up Walk
DESCRIPTION:
URL:https://cookscreekpa.org/event/fall-clean-up-walk/
LOCATION:Rte 212 at Old Philadelphia Rd./Gallows Hill Rd.\, Durham\, 18039
END:VEVENT
BEGIN:VEVENT
DTSTART;TZID=America/New_York:20181025T193000
DTEND;TZID=America/New_York:20181025T193000
DTSTAMP:20260419T155102
CREATED:20180111T033759Z
LAST-MODIFIED:20180915T124122Z
UID:406-1540495800-1540495800@cookscreekpa.org
SUMMARY:Monthly Cooks Creek Watershed Association Board Meeting
DESCRIPTION:Public welcome.
URL:https://cookscreekpa.org/event/monthly-cooks-creek-watershed-association-board-meeting-10/
LOCATION:Springtown Volunteer Fire Company\, 3010 Route 212 (Main St)\, Springtown\, PA\, 18081\, United States
END:VEVENT
BEGIN:VEVENT
DTSTART;TZID=America/New_York:20181013T120000
DTEND;TZID=America/New_York:20181013T150000
DTSTAMP:20260419T155102
CREATED:20180110T003358Z
LAST-MODIFIED:20180913T224041Z
UID:383-1539432000-1539442800@cookscreekpa.org
SUMMARY:Durham Community Day
DESCRIPTION:Durham Township is taking their annual Community Day celebration and giving it an ‘old school’ twist for 2018. The 2018 ‘Community Picnic’ will have live music by Durham native Alex Radus; food and concession sales; lawn games – (get your horse shoe throwing arm warmed up); petting farm and pony rides for the kids; guided tours of the historic Durham Grist Mill and much more! \nThis day is set aside each year to celebrate the good fortune of living in beautiful Durham Valley. It is a time to catch up with old friends and neighbors and get to know the newcomers. This is a day to celebrate a community\, but\, that can only be accomplished if the community shows up to celebrate. So make plans to head to Durham\, bring along a lawn chair\, a picnic blanket\, the kids and your appetite\, its going to be a great day. \nCCWA will not attend this year.
URL:https://cookscreekpa.org/event/durham-community-day-2/
LOCATION:Durham Township Green-Durham Mill\, 955 Durham Rd.\, Durham\, PA\, 18039\, United States
END:VEVENT
BEGIN:VEVENT
DTSTART;TZID=America/New_York:20181007T130000
DTEND;TZID=America/New_York:20181007T160000
DTSTAMP:20260419T155102
CREATED:20180111T032138Z
LAST-MODIFIED:20180913T223553Z
UID:394-1538917200-1538928000@cookscreekpa.org
SUMMARY:A Walk in Penn's Woods
DESCRIPTION:Sponsored by CCWA and others. \nwww.walkinpennswoods.org \nGuided tour walk through Mariton Wildlife Sanctuary and its steep forested slopes and meadows; maintained by Tim Burris\, Preserve Manager of the Natural Lands Trust. Mariton is perched on the steep slopes of Bougher Hill overlooking the scenic Delaware River. A highlight of the preserve’s trail system is the River Lookout Trail\, with an overlook of both the Delaware Canal and the Delaware River 300 feet below.
URL:https://cookscreekpa.org/event/a-walk-in-penns-woods/
LOCATION:Mariton Wildlife Preserve\, 240 Sunnyside Road\, Easton\, 18042
END:VEVENT
BEGIN:VEVENT
DTSTART;TZID=America/New_York:20181006T170000
DTEND;TZID=America/New_York:20181006T210000
DTSTAMP:20260419T155102
CREATED:20180110T003226Z
LAST-MODIFIED:20180915T004719Z
UID:382-1538845200-1538859600@cookscreekpa.org
SUMMARY:Annual Fall Potluck Dinner
DESCRIPTION:This is the CCWA‘s premier event. It is a chance to meet or get reacquainted with people who share your interest in the Watershed. The evening will have a speaker……with your neighbors.\n\n\nHors d’oeuvres at 5 pm\, dinner at 6 pm (please bring along a covered dish to share). \n  \nGuest presenter Rebecca Kennedy will be speaking about “Being a Water Steward and How Micro Plastics Effect our Waterways” at 7 pm. \n  \nAbout the Speaker \n \nRebecca Kennedy has acted as president of the Watershed Coalition of the Lehigh Valley since 2009. She works as a project manager for PENNVEST\, and is active in a wide variety of community-based water resource initiatives\, among them the Master Watershed Steward program. She has a background in geology and water resource management\, and enjoys biking\, swimming\, kayaking\, running\, and anything outdoors.
URL:https://cookscreekpa.org/event/fall-dinner/
LOCATION:Springtown Rod & Gun Club\, 3146 PA-212 (Main Street)\, Springtown\, PA\, 18081\, United States
END:VEVENT
BEGIN:VEVENT
DTSTART;TZID=America/New_York:20180927T193000
DTEND;TZID=America/New_York:20180927T193000
DTSTAMP:20260419T155102
CREATED:20180111T033714Z
LAST-MODIFIED:20180913T211513Z
UID:405-1538076600-1538076600@cookscreekpa.org
SUMMARY:Monthly Cooks Creek Watershed Association Board Meeting
DESCRIPTION:We will hold the September CCWA monthly board meeting while we attend the Lower Delaware Wild & Scenic Management Council Meeting. Please see separate listing for details.
URL:https://cookscreekpa.org/event/monthly-cooks-creek-watershed-association-board-meeting-9/
LOCATION:Solebury Township Building\, 3092 Sugan Road\, Solebury Township\, 18963
END:VEVENT
BEGIN:VEVENT
DTSTART;TZID=America/New_York:20180927T190000
DTEND;TZID=America/New_York:20180927T220000
DTSTAMP:20260419T155102
CREATED:20180913T211738Z
LAST-MODIFIED:20180913T211808Z
UID:768-1538074800-1538085600@cookscreekpa.org
SUMMARY:Lower Delaware Wild & Scenic Management Council Meeting
DESCRIPTION:The speaker is Kris D. Hallinger; topic: Arsenic Data Compilation Report. \nCCWA will hold our September monthly Board meeting the same evening at this location.
URL:https://cookscreekpa.org/event/lower-delaware-wild-scenic-management-council-meeting/
LOCATION:Solebury Township Building\, 3092 Sugan Road\, Solebury Township\, 18963
END:VEVENT
BEGIN:VEVENT
DTSTART;TZID=America/New_York:20180922T100000
DTEND;TZID=America/New_York:20180922T200000
DTSTAMP:20260419T155102
CREATED:20180110T003133Z
LAST-MODIFIED:20180915T004534Z
UID:381-1537610400-1537646400@cookscreekpa.org
SUMMARY:Springfield Community Day - 275-year celebration
DESCRIPTION:CCWA will be there from 10-4pm.\n\nWe will show old creek maps and sell copies of John A. Ruth’s Autobiography 1859 – 1918 (hot off the press) which talks about the Creek.\n\nThere will be an adult Mini Monster Mayhem at 12-1 pm and another at 2- 3 pm.
URL:https://cookscreekpa.org/event/springfield-community-day-250-year-celebration/
LOCATION:Silver Creek Grove\, 2943 Route 212\, Springtown\, 18081
END:VEVENT
BEGIN:VEVENT
DTSTART;TZID=America/New_York:20180823T193000
DTEND;TZID=America/New_York:20180823T193000
DTSTAMP:20260419T155102
CREATED:20180111T033631Z
LAST-MODIFIED:20180111T033631Z
UID:404-1535052600-1535052600@cookscreekpa.org
SUMMARY:Monthly Cooks Creek Watershed Association Board Meeting
DESCRIPTION:Public welcome.
URL:https://cookscreekpa.org/event/monthly-cooks-creek-watershed-association-board-meeting-8/
LOCATION:Springtown Volunteer Fire Company\, 3010 Route 212 (Main St)\, Springtown\, PA\, 18081\, United States
END:VEVENT
BEGIN:VEVENT
DTSTART;TZID=America/New_York:20180726T193000
DTEND;TZID=America/New_York:20180726T193000
DTSTAMP:20260419T155102
CREATED:20180111T033545Z
LAST-MODIFIED:20180728T145252Z
UID:403-1532633400-1532633400@cookscreekpa.org
SUMMARY:Monthly Cooks Creek Watershed Association Board Meeting
DESCRIPTION:JULY BOARD MEETING RESCHEDULED TO AUGUST 9\, 7:30pm. \nLOCATION: \nORBEN HOME\n3445 Owl Hollow Way\nRiegelsville\, PA 18077 (Springtown)
URL:https://cookscreekpa.org/event/monthly-cooks-creek-watershed-association-board-meeting-7/
LOCATION:Springtown Volunteer Fire Company\, 3010 Route 212 (Main St)\, Springtown\, PA\, 18081\, United States
END:VEVENT
BEGIN:VEVENT
DTSTART;TZID=America/New_York:20180721T120000
DTEND;TZID=America/New_York:20180721T140000
DTSTAMP:20260419T155102
CREATED:20180110T002826Z
LAST-MODIFIED:20180522T140246Z
UID:379-1532174400-1532181600@cookscreekpa.org
SUMMARY:Native and Invasive Plant Workshop
DESCRIPTION:PLEASE NOTE NEW DATE \nWalk with Durham landowners Maureen O’Brien and Jeff Heehs through woodlots heavily impacted by invasive shrubs and grasses\, encroaching vines\, and loss of large trees to disease and pests. We’ll talk about different attempts to restore and replace trees and understory with native plantings. Just clearing space in selected areas to advantage indigenous plants may gradually rebalance the mix of vegetation toward native species. We will provide handouts of native plant articles by Hans Reimann\, in his honor.
URL:https://cookscreekpa.org/event/native-and-invasive-plant-workshop/
LOCATION:Heehs Home\, 969 Spring Hill Rd.\, Durham\, PA\, 18039\, United States
END:VEVENT
BEGIN:VEVENT
DTSTART;TZID=America/New_York:20180628T193000
DTEND;TZID=America/New_York:20180628T193000
DTSTAMP:20260419T155102
CREATED:20180111T033504Z
LAST-MODIFIED:20180111T033504Z
UID:402-1530214200-1530214200@cookscreekpa.org
SUMMARY:Monthly Cooks Creek Watershed Association Board Meeting
DESCRIPTION:Public welcome.
URL:https://cookscreekpa.org/event/monthly-cooks-creek-watershed-association-board-meeting-6/
LOCATION:Springtown Volunteer Fire Company\, 3010 Route 212 (Main St)\, Springtown\, PA\, 18081\, United States
END:VEVENT
BEGIN:VEVENT
DTSTART;TZID=America/New_York:20180616T093000
DTEND;TZID=America/New_York:20180616T120000
DTSTAMP:20260419T155102
CREATED:20180110T002627Z
LAST-MODIFIED:20180513T000236Z
UID:378-1529141400-1529150400@cookscreekpa.org
SUMMARY:Mini Monster Mayhem
DESCRIPTION:
URL:https://cookscreekpa.org/event/mini-monster-mayhem-2/
LOCATION:The Douglas Home\, 3450 Route 212\, Springtown\, PA\, 18081\, United States
END:VEVENT
BEGIN:VEVENT
DTSTART;TZID=America/New_York:20180524T193000
DTEND;TZID=America/New_York:20180524T193000
DTSTAMP:20260419T155102
CREATED:20180111T033241Z
LAST-MODIFIED:20180111T033241Z
UID:401-1527190200-1527190200@cookscreekpa.org
SUMMARY:Monthly Cooks Creek Watershed Association Board Meeting
DESCRIPTION:Public welcome.
URL:https://cookscreekpa.org/event/monthly-cooks-creek-watershed-association-board-meeting-5/
LOCATION:Springtown Volunteer Fire Company\, 3010 Route 212 (Main St)\, Springtown\, PA\, 18081\, United States
END:VEVENT
BEGIN:VEVENT
DTSTART;TZID=America/New_York:20180426T193000
DTEND;TZID=America/New_York:20180426T193000
DTSTAMP:20260419T155102
CREATED:20180110T002425Z
LAST-MODIFIED:20180110T002425Z
UID:377-1524771000-1524771000@cookscreekpa.org
SUMMARY:Annual Meeting
DESCRIPTION:
URL:https://cookscreekpa.org/event/annual-meeting/
LOCATION:Springtown Volunteer Fire Company\, 3010 Route 212 (Main St)\, Springtown\, PA\, 18081\, United States
END:VEVENT
BEGIN:VEVENT
DTSTART;TZID=America/New_York:20180413T170000
DTEND;TZID=America/New_York:20180413T220000
DTSTAMP:20260419T155102
CREATED:20180111T032554Z
LAST-MODIFIED:20180214T180900Z
UID:395-1523638800-1523656800@cookscreekpa.org
SUMMARY:Upper Bucks Sustainable Living Expo
DESCRIPTION:Additional information at peace-youth.org
URL:https://cookscreekpa.org/event/upper-bucks-sustainable-living-expo/
LOCATION:Palisades High School\, 35 Church Hill Rd.\, Kintnersville\, PA\, 18930\, United States
END:VEVENT
END:VCALENDAR