BEGIN:VCALENDAR
VERSION:2.0
PRODID:-//Cooks Creek Watershed Association - ECPv6.15.11//NONSGML v1.0//EN
CALSCALE:GREGORIAN
METHOD:PUBLISH
X-WR-CALNAME:Cooks Creek Watershed Association
X-ORIGINAL-URL:https://cookscreekpa.org
X-WR-CALDESC:Events for Cooks Creek Watershed Association
REFRESH-INTERVAL;VALUE=DURATION:PT1H
X-Robots-Tag:noindex
X-PUBLISHED-TTL:PT1H
BEGIN:VTIMEZONE
TZID:America/New_York
BEGIN:DAYLIGHT
TZOFFSETFROM:-0500
TZOFFSETTO:-0400
TZNAME:EDT
DTSTART:20200308T070000
END:DAYLIGHT
BEGIN:STANDARD
TZOFFSETFROM:-0400
TZOFFSETTO:-0500
TZNAME:EST
DTSTART:20201101T060000
END:STANDARD
BEGIN:DAYLIGHT
TZOFFSETFROM:-0500
TZOFFSETTO:-0400
TZNAME:EDT
DTSTART:20210314T070000
END:DAYLIGHT
BEGIN:STANDARD
TZOFFSETFROM:-0400
TZOFFSETTO:-0500
TZNAME:EST
DTSTART:20211107T060000
END:STANDARD
BEGIN:DAYLIGHT
TZOFFSETFROM:-0500
TZOFFSETTO:-0400
TZNAME:EDT
DTSTART:20220313T070000
END:DAYLIGHT
BEGIN:STANDARD
TZOFFSETFROM:-0400
TZOFFSETTO:-0500
TZNAME:EST
DTSTART:20221106T060000
END:STANDARD
BEGIN:DAYLIGHT
TZOFFSETFROM:-0500
TZOFFSETTO:-0400
TZNAME:EDT
DTSTART:20230312T070000
END:DAYLIGHT
BEGIN:STANDARD
TZOFFSETFROM:-0400
TZOFFSETTO:-0500
TZNAME:EST
DTSTART:20231105T060000
END:STANDARD
END:VTIMEZONE
BEGIN:VTIMEZONE
TZID:America/New_York
BEGIN:DAYLIGHT
TZOFFSETFROM:-0500
TZOFFSETTO:-0400
TZNAME:EDT
DTSTART:20200308T070000
END:DAYLIGHT
BEGIN:STANDARD
TZOFFSETFROM:-0400
TZOFFSETTO:-0500
TZNAME:EST
DTSTART:20201101T060000
END:STANDARD
BEGIN:DAYLIGHT
TZOFFSETFROM:-0500
TZOFFSETTO:-0400
TZNAME:EDT
DTSTART:20210314T070000
END:DAYLIGHT
BEGIN:STANDARD
TZOFFSETFROM:-0400
TZOFFSETTO:-0500
TZNAME:EST
DTSTART:20211107T060000
END:STANDARD
BEGIN:DAYLIGHT
TZOFFSETFROM:-0500
TZOFFSETTO:-0400
TZNAME:EDT
DTSTART:20220313T070000
END:DAYLIGHT
BEGIN:STANDARD
TZOFFSETFROM:-0400
TZOFFSETTO:-0500
TZNAME:EST
DTSTART:20221106T060000
END:STANDARD
BEGIN:DAYLIGHT
TZOFFSETFROM:-0500
TZOFFSETTO:-0400
TZNAME:EDT
DTSTART:20230312T070000
END:DAYLIGHT
BEGIN:STANDARD
TZOFFSETFROM:-0400
TZOFFSETTO:-0500
TZNAME:EST
DTSTART:20231105T060000
END:STANDARD
END:VTIMEZONE
BEGIN:VEVENT
DTSTART;TZID=America/New_York:20220825T193000
DTEND;TZID=America/New_York:20220825T210000
DTSTAMP:20260419T110400
CREATED:20220218T162933Z
LAST-MODIFIED:20220218T162933Z
UID:3372-1661455800-1661461200@cookscreekpa.org
SUMMARY:Board Meeting
DESCRIPTION:All are welcome
URL:https://cookscreekpa.org/event/board-meeting-22/
LOCATION:Springtown Volunteer Fire Company\, 3010 Route 212 (Main St)\, Springtown\, PA\, 18081\, United States
ORGANIZER;CN="Cooks Creek Watershed Association":MAILTO:info@cookscreekpa.org
END:VEVENT
BEGIN:VEVENT
DTSTART;TZID=America/New_York:20220728T193000
DTEND;TZID=America/New_York:20220728T210000
DTSTAMP:20260419T110400
CREATED:20220218T162811Z
LAST-MODIFIED:20220218T162811Z
UID:3370-1659036600-1659042000@cookscreekpa.org
SUMMARY:Board Meeting
DESCRIPTION:All are welcome
URL:https://cookscreekpa.org/event/board-meeting-21/
LOCATION:Springtown Volunteer Fire Company\, 3010 Route 212 (Main St)\, Springtown\, PA\, 18081\, United States
ORGANIZER;CN="Cooks Creek Watershed Association":MAILTO:info@cookscreekpa.org
END:VEVENT
BEGIN:VEVENT
DTSTART;TZID=America/New_York:20220623T193000
DTEND;TZID=America/New_York:20220623T210000
DTSTAMP:20260419T110400
CREATED:20220218T162555Z
LAST-MODIFIED:20220218T162642Z
UID:3368-1656012600-1656018000@cookscreekpa.org
SUMMARY:Board Meeting
DESCRIPTION:All are welcome
URL:https://cookscreekpa.org/event/board-meeting-20/
LOCATION:Springtown Volunteer Fire Company\, 3010 Route 212 (Main St)\, Springtown\, PA\, 18081\, United States
ORGANIZER;CN="Cooks Creek Watershed Association":MAILTO:info@cookscreekpa.org
END:VEVENT
BEGIN:VEVENT
DTSTART;TZID=America/New_York:20220618T093000
DTEND;TZID=America/New_York:20220618T093000
DTSTAMP:20260419T110400
CREATED:20220218T163602Z
LAST-MODIFIED:20220218T163602Z
UID:3384-1655544600-1655544600@cookscreekpa.org
SUMMARY:Mini Monster Mayhem
DESCRIPTION:
URL:https://cookscreekpa.org/event/mini-monster-mayhem-5/
LOCATION:The Douglas Home\, 3450 Route 212\, Springtown\, PA\, 18081\, United States
ORGANIZER;CN="Cooks Creek Watershed Association":MAILTO:info@cookscreekpa.org
END:VEVENT
BEGIN:VEVENT
DTSTART;TZID=America/New_York:20220526T193000
DTEND;TZID=America/New_York:20220526T210000
DTSTAMP:20260419T110400
CREATED:20220218T162433Z
LAST-MODIFIED:20220218T162503Z
UID:3366-1653593400-1653598800@cookscreekpa.org
SUMMARY:Board Meeting
DESCRIPTION:All are welcome
URL:https://cookscreekpa.org/event/board-meeting-19/
LOCATION:Springtown Volunteer Fire Company\, 3010 Route 212 (Main St)\, Springtown\, PA\, 18081\, United States
ORGANIZER;CN="Cooks Creek Watershed Association":MAILTO:info@cookscreekpa.org
END:VEVENT
BEGIN:VEVENT
DTSTART;TZID=America/New_York:20220428T193000
DTEND;TZID=America/New_York:20220428T210000
DTSTAMP:20260419T110400
CREATED:20220218T162338Z
LAST-MODIFIED:20220218T164551Z
UID:3364-1651174200-1651179600@cookscreekpa.org
SUMMARY:Board Meeting/Annual Meeting
DESCRIPTION:All are welcome
URL:https://cookscreekpa.org/event/board-meeting-18/
LOCATION:Springtown Volunteer Fire Company\, 3010 Route 212 (Main St)\, Springtown\, PA\, 18081\, United States
ORGANIZER;CN="Cooks Creek Watershed Association":MAILTO:info@cookscreekpa.org
END:VEVENT
BEGIN:VEVENT
DTSTART;TZID=America/New_York:20220402T090000
DTEND;TZID=America/New_York:20220402T160000
DTSTAMP:20260419T110400
CREATED:20220218T163428Z
LAST-MODIFIED:20220218T163428Z
UID:3382-1648890000-1648915200@cookscreekpa.org
SUMMARY:Spring Clean-Up
DESCRIPTION:
URL:https://cookscreekpa.org/event/spring-clean-up/
LOCATION:Springtown Volunteer Fire Company\, 3010 Route 212 (Main St)\, Springtown\, PA\, 18081\, United States
ORGANIZER;CN="Cooks Creek Watershed Association":MAILTO:info@cookscreekpa.org
END:VEVENT
BEGIN:VEVENT
DTSTART;TZID=America/New_York:20220324T193000
DTEND;TZID=America/New_York:20220324T210000
DTSTAMP:20260419T110400
CREATED:20220218T162234Z
LAST-MODIFIED:20220218T162234Z
UID:3362-1648150200-1648155600@cookscreekpa.org
SUMMARY:Board Meeting
DESCRIPTION:All are welcome
URL:https://cookscreekpa.org/event/board-meeting-17/
LOCATION:Springtown Volunteer Fire Company\, 3010 Route 212 (Main St)\, Springtown\, PA\, 18081\, United States
ORGANIZER;CN="Cooks Creek Watershed Association":MAILTO:info@cookscreekpa.org
END:VEVENT
BEGIN:VEVENT
DTSTART;TZID=America/New_York:20220321T000000
DTEND;TZID=America/New_York:20220321T000000
DTSTAMP:20260419T110400
CREATED:20220218T163840Z
LAST-MODIFIED:20220218T163840Z
UID:3386-1647820800-1647820800@cookscreekpa.org
SUMMARY:Native Plant Workshop
DESCRIPTION:“Pulling Garlic Mustard and Enjoying It” \nDate and Time TBA; in the Spring
URL:https://cookscreekpa.org/event/native-plant-workshop/
LOCATION:To Be Announced
ORGANIZER;CN="Cooks Creek Watershed Association":MAILTO:info@cookscreekpa.org
END:VEVENT
BEGIN:VEVENT
DTSTART;TZID=America/New_York:20220224T193000
DTEND;TZID=America/New_York:20220224T210000
DTSTAMP:20260419T110400
CREATED:20220218T161318Z
LAST-MODIFIED:20220218T161943Z
UID:3359-1645731000-1645736400@cookscreekpa.org
SUMMARY:Board Meeting
DESCRIPTION:All are welcome
URL:https://cookscreekpa.org/event/board-meeting-16/
LOCATION:Springtown Volunteer Fire Company\, 3010 Route 212 (Main St)\, Springtown\, PA\, 18081\, United States
ORGANIZER;CN="Cooks Creek Watershed Association":MAILTO:info@cookscreekpa.org
END:VEVENT
BEGIN:VEVENT
DTSTART;TZID=America/New_York:20211216T193000
DTEND;TZID=America/New_York:20211216T210000
DTSTAMP:20260419T110400
CREATED:20201215T193116Z
LAST-MODIFIED:20210123T141451Z
UID:3214-1639683000-1639688400@cookscreekpa.org
SUMMARY:Board Meeting
DESCRIPTION:All are welcome
URL:https://cookscreekpa.org/event/board-meeting-15/
LOCATION:Springtown Volunteer Fire Company\, 3010 Route 212 (Main St)\, Springtown\, PA\, 18081\, United States
ORGANIZER;CN="Cooks Creek Watershed Association":MAILTO:info@cookscreekpa.org
END:VEVENT
BEGIN:VEVENT
DTSTART;TZID=America/New_York:20211118T193000
DTEND;TZID=America/New_York:20211118T210000
DTSTAMP:20260419T110400
CREATED:20201215T192935Z
LAST-MODIFIED:20201215T192935Z
UID:3212-1637263800-1637269200@cookscreekpa.org
SUMMARY:Board Meeting
DESCRIPTION:All are welcome
URL:https://cookscreekpa.org/event/board-meeting-14/
LOCATION:Springtown Volunteer Fire Company\, 3010 Route 212 (Main St)\, Springtown\, PA\, 18081\, United States
ORGANIZER;CN="Cooks Creek Watershed Association":MAILTO:info@cookscreekpa.org
END:VEVENT
BEGIN:VEVENT
DTSTART;TZID=America/New_York:20211113T090000
DTEND;TZID=America/New_York:20211113T120000
DTSTAMP:20260419T110400
CREATED:20201215T192815Z
LAST-MODIFIED:20201215T192839Z
UID:3210-1636794000-1636804800@cookscreekpa.org
SUMMARY:Fall Cleanup
DESCRIPTION:
URL:https://cookscreekpa.org/event/fall-cleanup/
LOCATION:Rte 212 at Old Philadelphia Rd./Gallows Hill Rd.\, Durham\, 18039
ORGANIZER;CN="Cooks Creek Watershed Association":MAILTO:info@cookscreekpa.org
END:VEVENT
BEGIN:VEVENT
DTSTART;TZID=America/New_York:20211021T193000
DTEND;TZID=America/New_York:20211021T210000
DTSTAMP:20260419T110400
CREATED:20201215T192642Z
LAST-MODIFIED:20210927T185652Z
UID:3208-1634844600-1634850000@cookscreekpa.org
SUMMARY:Board Meeting
DESCRIPTION:All are welcome
URL:https://cookscreekpa.org/event/board-meeting-13/
LOCATION:Springtown Volunteer Fire Company\, 3010 Route 212 (Main St)\, Springtown\, PA\, 18081\, United States
ORGANIZER;CN="Cooks Creek Watershed Association":MAILTO:info@cookscreekpa.org
END:VEVENT
BEGIN:VEVENT
DTSTART;TZID=America/New_York:20211009T130000
DTEND;TZID=America/New_York:20211009T160000
DTSTAMP:20260419T110400
CREATED:20201215T192525Z
LAST-MODIFIED:20210927T185924Z
UID:3205-1633784400-1633795200@cookscreekpa.org
SUMMARY:Durham Community Day
DESCRIPTION:CANCELED
URL:https://cookscreekpa.org/event/durham-community-day-4/
LOCATION:Durham Township Green-Durham Mill\, 955 Durham Rd.\, Durham\, PA\, 18039\, United States
END:VEVENT
BEGIN:VEVENT
DTSTART;TZID=America/New_York:20211003T120000
DTEND;TZID=America/New_York:20211003T140000
DTSTAMP:20260419T110400
CREATED:20201215T192338Z
LAST-MODIFIED:20210927T185905Z
UID:3203-1633262400-1633269600@cookscreekpa.org
SUMMARY:Walk in Penn's Woods
DESCRIPTION:CANCELED
URL:https://cookscreekpa.org/event/walk-in-penns-woods/
LOCATION:To Be Announced
ORGANIZER;CN="Cooks Creek Watershed Association":MAILTO:info@cookscreekpa.org
END:VEVENT
BEGIN:VEVENT
DTSTART;TZID=America/New_York:20211002T170000
DTEND;TZID=America/New_York:20211002T210000
DTSTAMP:20260419T110400
CREATED:20201215T192137Z
LAST-MODIFIED:20210927T185830Z
UID:3201-1633194000-1633208400@cookscreekpa.org
SUMMARY:Fall Dinner
DESCRIPTION:CANCELED\nI am sorry to have to say this\, but the Board has decided to cancel our fall fellowship dinner out of an abundance of caution.  The Rod and Gun Club is a small space and can be rather stuffy as you know\, and given the idea is to share food\, we would not be masked.  Seemed like it might be better to wait another year.  So tired of this!
URL:https://cookscreekpa.org/event/fall-dinner-3/
LOCATION:Springtown Rod & Gun Club\, 3146 PA-212 (Main Street)\, Springtown\, PA\, 18081\, United States
ORGANIZER;CN="Cooks Creek Watershed Association":MAILTO:info@cookscreekpa.org
END:VEVENT
BEGIN:VEVENT
DTSTART;TZID=America/New_York:20210923T193000
DTEND;TZID=America/New_York:20210923T210000
DTSTAMP:20260419T110400
CREATED:20201215T192005Z
LAST-MODIFIED:20201215T192005Z
UID:3199-1632425400-1632430800@cookscreekpa.org
SUMMARY:Board Meeting
DESCRIPTION:All are welcome
URL:https://cookscreekpa.org/event/board-meeting-12/
LOCATION:Springtown Volunteer Fire Company\, 3010 Route 212 (Main St)\, Springtown\, PA\, 18081\, United States
ORGANIZER;CN="Cooks Creek Watershed Association":MAILTO:info@cookscreekpa.org
END:VEVENT
BEGIN:VEVENT
DTSTART;TZID=America/New_York:20210918T100000
DTEND;TZID=America/New_York:20210918T130000
DTSTAMP:20260419T110400
CREATED:20210822T170602Z
LAST-MODIFIED:20210822T170602Z
UID:3336-1631959200-1631970000@cookscreekpa.org
SUMMARY:Fry's Run Family Fun
DESCRIPTION:Royal Manor Road at the intersection of Route 611
URL:https://cookscreekpa.org/event/frys-run-family-fun/
LOCATION:PA
END:VEVENT
BEGIN:VEVENT
DTSTART;TZID=America/New_York:20210911T100000
DTEND;TZID=America/New_York:20210911T120000
DTSTAMP:20260419T110400
CREATED:20210712T180510Z
LAST-MODIFIED:20210822T163204Z
UID:3305-1631354400-1631361600@cookscreekpa.org
SUMMARY:Practicing Conservation through Seed Propagation
DESCRIPTION:Peppermint Park\, Springtown \nPresenters are John Mark Courtney and Victoria Holderer of KindEarth Growers. Rain or shine and free of charge\, but donations will be accepted.
URL:https://cookscreekpa.org/event/native-seed-collection-workshop/
LOCATION:Peppermint Park\, 1801 Peppermint Rd.\, Springtown\, PA\, 18081\, United States
ORGANIZER;CN="Cooks Creek Watershed Association":MAILTO:info@cookscreekpa.org
END:VEVENT
BEGIN:VEVENT
DTSTART;TZID=America/New_York:20210826T193000
DTEND;TZID=America/New_York:20210826T210000
DTSTAMP:20260419T110400
CREATED:20201215T191908Z
LAST-MODIFIED:20201215T191908Z
UID:3196-1630006200-1630011600@cookscreekpa.org
SUMMARY:Board Meeting
DESCRIPTION:All are welcome
URL:https://cookscreekpa.org/event/board-meeting-11/
LOCATION:Springtown Volunteer Fire Company\, 3010 Route 212 (Main St)\, Springtown\, PA\, 18081\, United States
ORGANIZER;CN="Cooks Creek Watershed Association":MAILTO:info@cookscreekpa.org
END:VEVENT
BEGIN:VEVENT
DTSTART;TZID=America/New_York:20210722T193000
DTEND;TZID=America/New_York:20210722T210000
DTSTAMP:20260419T110400
CREATED:20201215T191800Z
LAST-MODIFIED:20201215T191800Z
UID:3194-1626982200-1626987600@cookscreekpa.org
SUMMARY:Board Meeting
DESCRIPTION:All are welcome
URL:https://cookscreekpa.org/event/board-meeting-10/
LOCATION:Springtown Volunteer Fire Company\, 3010 Route 212 (Main St)\, Springtown\, PA\, 18081\, United States
ORGANIZER;CN="Cooks Creek Watershed Association":MAILTO:info@cookscreekpa.org
END:VEVENT
BEGIN:VEVENT
DTSTART;TZID=America/New_York:20210624T193000
DTEND;TZID=America/New_York:20210624T210000
DTSTAMP:20260419T110400
CREATED:20201215T191533Z
LAST-MODIFIED:20210123T141433Z
UID:3190-1624563000-1624568400@cookscreekpa.org
SUMMARY:Board Meeting
DESCRIPTION:All are welcome\nBoard meetings are typically held on the fourth Thursday of the month at the Springtown Firehouse at 7:30pm.  However\, to be consistent with COVID recommendations\, the Board has been and will continue to meet virtually.  If you desire to join us\, please send us an email for the meeting link to info@cookscreekpa.org.
URL:https://cookscreekpa.org/event/board-meeting-9/
LOCATION:Springtown Volunteer Fire Company\, 3010 Route 212 (Main St)\, Springtown\, PA\, 18081\, United States
ORGANIZER;CN="Cooks Creek Watershed Association":MAILTO:info@cookscreekpa.org
END:VEVENT
BEGIN:VEVENT
DTSTART;TZID=America/New_York:20210619T093000
DTEND;TZID=America/New_York:20210619T120000
DTSTAMP:20260419T110400
CREATED:20201215T191357Z
LAST-MODIFIED:20201215T191357Z
UID:3188-1624095000-1624104000@cookscreekpa.org
SUMMARY:Mini Monster Mayhem
DESCRIPTION:
URL:https://cookscreekpa.org/event/mini-monster-mayhem-4/
LOCATION:The Douglas Home\, 3450 Route 212\, Springtown\, PA\, 18081\, United States
ORGANIZER;CN="Cooks Creek Watershed Association":MAILTO:info@cookscreekpa.org
END:VEVENT
BEGIN:VEVENT
DTSTART;TZID=America/New_York:20210527T193000
DTEND;TZID=America/New_York:20210527T210000
DTSTAMP:20260419T110400
CREATED:20201215T191235Z
LAST-MODIFIED:20210123T141356Z
UID:3186-1622143800-1622149200@cookscreekpa.org
SUMMARY:Board Meeting
DESCRIPTION:All are welcome\nBoard meetings are typically held on the fourth Thursday of the month at the Springtown Firehouse at 7:30pm.  However\, to be consistent with COVID recommendations\, the Board has been and will continue to meet virtually.  If you desire to join us\, please send us an email for the meeting link to info@cookscreekpa.org.
URL:https://cookscreekpa.org/event/board-meeting-8/
LOCATION:Springtown Volunteer Fire Company\, 3010 Route 212 (Main St)\, Springtown\, PA\, 18081\, United States
ORGANIZER;CN="Cooks Creek Watershed Association":MAILTO:info@cookscreekpa.org
END:VEVENT
BEGIN:VEVENT
DTSTART;TZID=America/New_York:20210422T193000
DTEND;TZID=America/New_York:20210422T210000
DTSTAMP:20260419T110400
CREATED:20201215T191141Z
LAST-MODIFIED:20210123T141328Z
UID:3184-1619119800-1619125200@cookscreekpa.org
SUMMARY:Annual Meeting
DESCRIPTION:All are welcome\nBoard meetings are typically held on the fourth Thursday of the month at the Springtown Firehouse at 7:30pm.  However\, to be consistent with COVID recommendations\, the Board has been and will continue to meet virtually.  If you desire to join us\, please send us an email for the meeting link to info@cookscreekpa.org.
URL:https://cookscreekpa.org/event/annual-meeting-3/
LOCATION:Springtown Volunteer Fire Company\, 3010 Route 212 (Main St)\, Springtown\, PA\, 18081\, United States
ORGANIZER;CN="Cooks Creek Watershed Association":MAILTO:info@cookscreekpa.org
END:VEVENT
BEGIN:VEVENT
DTSTART;TZID=America/New_York:20210410T090000
DTEND;TZID=America/New_York:20210410T160000
DTSTAMP:20260419T110400
CREATED:20201215T191013Z
LAST-MODIFIED:20210105T173109Z
UID:3182-1618045200-1618070400@cookscreekpa.org
SUMMARY:Spring Cleanup
DESCRIPTION:
URL:https://cookscreekpa.org/event/spring-cleanup/
LOCATION:Springtown Volunteer Fire Company\, 3010 Route 212 (Main St)\, Springtown\, PA\, 18081\, United States
ORGANIZER;CN="Cooks Creek Watershed Association":MAILTO:info@cookscreekpa.org
END:VEVENT
BEGIN:VEVENT
DTSTART;TZID=America/New_York:20210325T193000
DTEND;TZID=America/New_York:20210325T210000
DTSTAMP:20260419T110400
CREATED:20201215T190850Z
LAST-MODIFIED:20210123T141308Z
UID:3180-1616700600-1616706000@cookscreekpa.org
SUMMARY:Board Meeting
DESCRIPTION:All are welcome\nBoard meetings are typically held on the fourth Thursday of the month at the Springtown Firehouse at 7:30pm.  However\, to be consistent with COVID recommendations\, the Board has been and will continue to meet virtually.  If you desire to join us\, please send us an email for the meeting link to info@cookscreekpa.org.
URL:https://cookscreekpa.org/event/board-meeting-7/
LOCATION:Springtown Volunteer Fire Company\, 3010 Route 212 (Main St)\, Springtown\, PA\, 18081\, United States
ORGANIZER;CN="Cooks Creek Watershed Association":MAILTO:info@cookscreekpa.org
END:VEVENT
BEGIN:VEVENT
DTSTART;TZID=America/New_York:20210225T193000
DTEND;TZID=America/New_York:20210225T210000
DTSTAMP:20260419T110400
CREATED:20201215T190650Z
LAST-MODIFIED:20210123T141242Z
UID:3175-1614281400-1614286800@cookscreekpa.org
SUMMARY:Board Meeting
DESCRIPTION:All are welcome\nBoard meetings are typically held on the fourth Thursday of the month at the Springtown Firehouse at 7:30pm.  However\, to be consistent with COVID recommendations\, the Board has been and will continue to meet virtually.  If you desire to join us\, please send us an email for the meeting link to info@cookscreekpa.org.
URL:https://cookscreekpa.org/event/board-meeting-6/
LOCATION:Springtown Volunteer Fire Company\, 3010 Route 212 (Main St)\, Springtown\, PA\, 18081\, United States
ORGANIZER;CN="Cooks Creek Watershed Association":MAILTO:info@cookscreekpa.org
END:VEVENT
BEGIN:VEVENT
DTSTART;TZID=America/New_York:20210128T193000
DTEND;TZID=America/New_York:20210128T210000
DTSTAMP:20260419T110400
CREATED:20201215T190008Z
LAST-MODIFIED:20210123T141151Z
UID:3173-1611862200-1611867600@cookscreekpa.org
SUMMARY:Board Meeting
DESCRIPTION:All are welcome\nBoard meetings are typically held on the fourth Thursday of the month at the Springtown Firehouse at 7:30pm.  However\, to be consistent with COVID recommendations\, the Board has been and will continue to meet virtually.  If you desire to join us\, please send us an email for the meeting link to info@cookscreekpa.org.
URL:https://cookscreekpa.org/event/board-meeting-5/
LOCATION:Springtown Volunteer Fire Company\, 3010 Route 212 (Main St)\, Springtown\, PA\, 18081\, United States
ORGANIZER;CN="Cooks Creek Watershed Association":MAILTO:info@cookscreekpa.org
END:VEVENT
END:VCALENDAR