BEGIN:VCALENDAR
VERSION:2.0
PRODID:-//Cooks Creek Watershed Association - ECPv6.15.11//NONSGML v1.0//EN
CALSCALE:GREGORIAN
METHOD:PUBLISH
X-ORIGINAL-URL:https://cookscreekpa.org
X-WR-CALDESC:Events for Cooks Creek Watershed Association
REFRESH-INTERVAL;VALUE=DURATION:PT1H
X-Robots-Tag:noindex
X-PUBLISHED-TTL:PT1H
BEGIN:VTIMEZONE
TZID:America/New_York
BEGIN:DAYLIGHT
TZOFFSETFROM:-0500
TZOFFSETTO:-0400
TZNAME:EDT
DTSTART:20250309T070000
END:DAYLIGHT
BEGIN:STANDARD
TZOFFSETFROM:-0400
TZOFFSETTO:-0500
TZNAME:EST
DTSTART:20251102T060000
END:STANDARD
BEGIN:DAYLIGHT
TZOFFSETFROM:-0500
TZOFFSETTO:-0400
TZNAME:EDT
DTSTART:20260308T070000
END:DAYLIGHT
BEGIN:STANDARD
TZOFFSETFROM:-0400
TZOFFSETTO:-0500
TZNAME:EST
DTSTART:20261101T060000
END:STANDARD
BEGIN:DAYLIGHT
TZOFFSETFROM:-0500
TZOFFSETTO:-0400
TZNAME:EDT
DTSTART:20270314T070000
END:DAYLIGHT
BEGIN:STANDARD
TZOFFSETFROM:-0400
TZOFFSETTO:-0500
TZNAME:EST
DTSTART:20271107T060000
END:STANDARD
END:VTIMEZONE
BEGIN:VEVENT
DTSTART;TZID=America/New_York:20260411T090000
DTEND;TZID=America/New_York:20260411T160000
DTSTAMP:20260419T075948
CREATED:20260315T153856Z
LAST-MODIFIED:20260315T154051Z
UID:4179-1775898000-1775923200@cookscreekpa.org
SUMMARY:22nd Annual Roadside Clean-Up!
DESCRIPTION:Come on out in the spring sunshine with your friends and neighbors and help us clean up the winter clutter on our roadways. You provide the time\, we supply everything else!
URL:https://cookscreekpa.org/event/22nd-annual-roadside-clean-up/
LOCATION:Springtown Firehouse – Palisades Regional Fire Rescue Springtown Station 40
ORGANIZER;CN="Cooks Creek Watershed Association":MAILTO:info@cookscreekpa.org
END:VEVENT
BEGIN:VEVENT
DTSTART;TZID=America/New_York:20260423T183000
DTEND;TZID=America/New_York:20260423T203000
DTSTAMP:20260419T075948
CREATED:20260315T154244Z
LAST-MODIFIED:20260315T154244Z
UID:4189-1776969000-1776976200@cookscreekpa.org
SUMMARY:Cooks Creek Watershed Association Monthly Meeting
DESCRIPTION:This will serve as our ANNUAL meeting! Come out and get an update on the status of Cooks Creek!
URL:https://cookscreekpa.org/event/cooks-creek-watershed-association-monthly-meeting-2/
LOCATION:Springtown Firehouse – Palisades Regional Fire Rescue Springtown Station 40
ORGANIZER;CN="Cooks Creek Watershed Association":MAILTO:info@cookscreekpa.org
END:VEVENT
BEGIN:VEVENT
DTSTART;TZID=America/New_York:20260520T160000
DTEND;TZID=America/New_York:20260520T190000
DTSTAMP:20260419T075948
CREATED:20260315T155847Z
LAST-MODIFIED:20260315T155847Z
UID:4193-1779292800-1779303600@cookscreekpa.org
SUMMARY:Farm Market at Passer Tent Event
DESCRIPTION:Visit us at the Farm Market as Passer!
URL:https://cookscreekpa.org/event/farm-market-at-passer-tent-event/
LOCATION:Passer Community Center\, 2580 Richlandtown Pike\, Coopersburg\, Pennsylvania\, 18036
ORGANIZER;CN="Farm Market at Passer":MAILTO:farmmarketatpasser@gmail.com
END:VEVENT
BEGIN:VEVENT
DTSTART;TZID=America/New_York:20260528T183000
DTEND;TZID=America/New_York:20260528T203000
DTSTAMP:20260419T075948
CREATED:20260315T154422Z
LAST-MODIFIED:20260315T154422Z
UID:4191-1779993000-1780000200@cookscreekpa.org
SUMMARY:Cooks Creek Watershed Association Monthly Meeting
DESCRIPTION:All are welcome!
URL:https://cookscreekpa.org/event/cooks-creek-watershed-association-monthly-meeting-3/
LOCATION:Springtown Firehouse – Palisades Regional Fire Rescue Springtown Station 40
ORGANIZER;CN="Cooks Creek Watershed Association":MAILTO:info@cookscreekpa.org
END:VEVENT
END:VCALENDAR